BEGIN:VCALENDAR
VERSION:2.0
CALSCALE:GREGORIAN
PRODID:-//Diputació de Barcelona//DibaCMS//EN
BEGIN:VEVENT
UID:7835
DTSTAMP:20260421T083404
DTSTART:20190427T000000
DTEND:20190427T210000
SUMMARY:Sant Jordi -Canadà Parc
LOCATION:
METHOD:PUBLISH
X-WR-CALNAME:vallgorguina@vallgorguina.cat
X-WR-TIMEZONE:Europe/Madrid
DESCRIPTION:Mercat Boig i aperitiu amb activitats pels nens, punts de llibre, confecció de roses

URI:https://www.vallgorguina.cat/actualitat/agenda/sant-jordi-canada-parc.html
CLASS:PUBLIC
END:VEVENT
END:VCALENDAR
