BEGIN:VCALENDAR
VERSION:2.0
CALSCALE:GREGORIAN
PRODID:-//Diputació de Barcelona//DibaCMS//EN
BEGIN:VEVENT
UID:7836
DTSTAMP:20260420T224000
DTSTART:20190623T200000
DTEND:20190623T235800
SUMMARY:Revetlla de Sant Joan-AAVV Canadà Parc
LOCATION:
METHOD:PUBLISH
X-WR-CALNAME:vallgorguina@vallgorguina.cat
X-WR-TIMEZONE:Europe/Madrid
DESCRIPTION:
URI:https://www.vallgorguina.cat/actualitat/agenda/revetlla-de-sant-joan-aavv-canada-parc.html
CLASS:PUBLIC
END:VEVENT
END:VCALENDAR
