BEGIN:VCALENDAR
VERSION:2.0
CALSCALE:GREGORIAN
PRODID:-//Diputació de Barcelona//DibaCMS//EN
BEGIN:VEVENT
UID:7840
DTSTAMP:20260423T131333
DTSTART:20190408T160000
DTEND:20190408T190000
SUMMARY:Conferència sobre música Clàssica
LOCATION:
METHOD:PUBLISH
X-WR-CALNAME:vallgorguina@vallgorguina.cat
X-WR-TIMEZONE:Europe/Madrid
DESCRIPTION:A la sala d'exposicions, organitza. ESCOLA WALDORF DE VALLGORGUINA

URI:https://www.vallgorguina.cat/actualitat/agenda/conferencia-sobre-musica-classica.html
CLASS:PUBLIC
END:VEVENT
END:VCALENDAR
