BEGIN:VCALENDAR
VERSION:2.0
CALSCALE:GREGORIAN
PRODID:-//Diputació de Barcelona//DibaCMS//EN
BEGIN:VEVENT
UID:7844
DTSTAMP:20260421T083517
DTSTART:20190519T070000
DTEND:20190519T130000
SUMMARY:Ironman
LOCATION:
METHOD:PUBLISH
X-WR-CALNAME:vallgorguina@vallgorguina.cat
X-WR-TIMEZONE:Europe/Madrid
DESCRIPTION:
URI:https://www.vallgorguina.cat/actualitat/agenda/ironman.html
CLASS:PUBLIC
END:VEVENT
END:VCALENDAR
