BEGIN:VCALENDAR
VERSION:2.0
CALSCALE:GREGORIAN
PRODID:-//Diputació de Barcelona//DibaCMS//EN
BEGIN:VEVENT
UID:7847
DTSTAMP:20260421T085040
DTSTART:20190401T180000
DTEND:20190401T210000
SUMMARY:Concurs Disseny Portada 1ª Revista de l'Associació Casal Caliu el Dolmen
LOCATION:
METHOD:PUBLISH
X-WR-CALNAME:vallgorguina@vallgorguina.cat
X-WR-TIMEZONE:Europe/Madrid
DESCRIPTION:
URI:https://www.vallgorguina.cat/actualitat/agenda/concurs-disseny-portada-1a-revista-de-lassociacio-casal-caliu-el-dolmen.html
CLASS:PUBLIC
END:VEVENT
END:VCALENDAR
