BEGIN:VCALENDAR
VERSION:2.0
CALSCALE:GREGORIAN
PRODID:-//Diputació de Barcelona//DibaCMS//EN
BEGIN:VEVENT
UID:7848
DTSTAMP:20260421T024836
DTSTART:20190525T180000
DTEND:20190525T213000
SUMMARY:Xerrada sobre els Ocells
LOCATION:
METHOD:PUBLISH
X-WR-CALNAME:vallgorguina@vallgorguina.cat
X-WR-TIMEZONE:Europe/Madrid
DESCRIPTION:Vols aprendre com es comporten a la natura, quines són les espècies que trobem en el nostre entorn, quin és el vincle amb els humans?

Doncs no deixis escapar aquesta oportunitat i inscriu-t'hi!!!

Informació i Inscripcions a: info@turismevallgorguina.com

Adequat per tota mena de públic

Activitat dirigida pel Tècnic Joan Manel Riera, de l'Escola de Natura del Corredor.

L'acte es farà a la Sala d'exposicions, no al Museu! 

URI:https://www.vallgorguina.cat/actualitat/agenda/xerrada-sobre-els-ocells.html
CLASS:PUBLIC
END:VEVENT
END:VCALENDAR
