BEGIN:VCALENDAR
VERSION:2.0
CALSCALE:GREGORIAN
PRODID:-//Diputació de Barcelona//DibaCMS//EN
BEGIN:VEVENT
UID:7857
DTSTAMP:20260421T195943
DTSTART:20190427T090000
DTEND:20190427T133000
SUMMARY:Monogràfic "Cuentos de hadas.Caminos del Alma"
LOCATION:
METHOD:PUBLISH
X-WR-CALNAME:vallgorguina@vallgorguina.cat
X-WR-TIMEZONE:Europe/Madrid
DESCRIPTION:A càrrerc d'Anne Nott a l'escola Waldorf de Vallgorguina

URI:https://www.vallgorguina.cat/actualitat/agenda/monografic-cuentos-de-hadascaminos-del-alma.html
CLASS:PUBLIC
END:VEVENT
END:VCALENDAR
