BEGIN:VCALENDAR
VERSION:2.0
CALSCALE:GREGORIAN
PRODID:-//Diputació de Barcelona//DibaCMS//EN
BEGIN:VEVENT
UID:7859
DTSTAMP:20260421T002426
DTSTART:20190629T090000
DTEND:20190629T133000
SUMMARY:Monogràfic "Cuentos de hadas.Caminos del Alma"
LOCATION:
METHOD:PUBLISH
X-WR-CALNAME:vallgorguina@vallgorguina.cat
X-WR-TIMEZONE:Europe/Madrid
DESCRIPTION:A Càrrec d'Anne Nott a l'Escola Waldorf de Vallgorguina

URI:https://www.vallgorguina.cat/actualitat/agenda/7859-monografic-cuentos-de-hadascaminos-del-alma.html
CLASS:PUBLIC
END:VEVENT
END:VCALENDAR
