BEGIN:VCALENDAR
VERSION:2.0
CALSCALE:GREGORIAN
PRODID:-//Diputació de Barcelona//DibaCMS//EN
BEGIN:VEVENT
UID:7866
DTSTAMP:20260421T063723
DTSTART:20190427T170000
DTEND:20190427T200000
SUMMARY:Sant Jordi a la Baronia
LOCATION:
METHOD:PUBLISH
X-WR-CALNAME:vallgorguina@vallgorguina.cat
X-WR-TIMEZONE:Europe/Madrid
DESCRIPTION:Jocs de taula per a grans i petits i com sempre un Bon berenar!

Recollida de llibres en bon estat:dona'ls una segona opurtunitat.

URI:https://www.vallgorguina.cat/actualitat/agenda/sant-jordi-a-la-baronia.html
CLASS:PUBLIC
END:VEVENT
END:VCALENDAR
