BEGIN:VCALENDAR
VERSION:2.0
CALSCALE:GREGORIAN
PRODID:-//Diputació de Barcelona//DibaCMS//EN
BEGIN:VEVENT
UID:7881
DTSTAMP:20260421T084216
DTSTART:20190415T110000
DTEND:20190418T130000
SUMMARY:Taller de Tècniques Ninja per aprovar exàmens amb nota
LOCATION:
METHOD:PUBLISH
X-WR-CALNAME:vallgorguina@vallgorguina.cat
X-WR-TIMEZONE:Europe/Madrid
DESCRIPTION:Taller de tècniques NINJA per aprovar exàmens amb nota i gauudir mentre aprens.

Gratuït

Del 15 al 18 d'abril a la Biblioteca de Vallgorguina de 11.00h a 13.00h

URI:https://www.vallgorguina.cat/actualitat/agenda/taller-de-tecniques-ninja-per-aprovar-examens-amb-nota.html
CLASS:PUBLIC
END:VEVENT
END:VCALENDAR
