BEGIN:VCALENDAR
VERSION:2.0
CALSCALE:GREGORIAN
PRODID:-//Diputació de Barcelona//DibaCMS//EN
BEGIN:VEVENT
UID:7882
DTSTAMP:20260421T063227
DTSTART:20190413T180000
DTEND:20190421T200000
SUMMARY:Exposició
LOCATION:
METHOD:PUBLISH
X-WR-CALNAME:vallgorguina@vallgorguina.cat
X-WR-TIMEZONE:Europe/Madrid
DESCRIPTION:Història Assemblea nacional Catalana Vallgorguina 

de 2011 a dia d'avui

URI:https://www.vallgorguina.cat/actualitat/agenda/exposicio.html
CLASS:PUBLIC
END:VEVENT
END:VCALENDAR
