BEGIN:VCALENDAR
VERSION:2.0
CALSCALE:GREGORIAN
PRODID:-//Diputació de Barcelona//DibaCMS//EN
BEGIN:VEVENT
UID:7895
DTSTAMP:20260421T134813
DTSTART:20190507T170000
DTEND:20190507T190000
SUMMARY:Contes + Taller
LOCATION:
METHOD:PUBLISH
X-WR-CALNAME:vallgorguina@vallgorguina.cat
X-WR-TIMEZONE:Europe/Madrid
DESCRIPTION:Una sessió de contes + taller per apendre amb les orelles i les mans que es possible dur a endevant els reptes més grans amb l'ajuda dels altres.

Lloc: Biblioteca K1 de Vallgorguina

URI:https://www.vallgorguina.cat/actualitat/agenda/contes--taller.html
CLASS:PUBLIC
END:VEVENT
END:VCALENDAR
