BEGIN:VCALENDAR
VERSION:2.0
CALSCALE:GREGORIAN
PRODID:-//Diputació de Barcelona//DibaCMS//EN
BEGIN:VEVENT
UID:7898
DTSTAMP:20260421T004350
DTSTART:20190527T170000
DTEND:20190527T183000
SUMMARY:Taller Creatiu
LOCATION:
METHOD:PUBLISH
X-WR-CALNAME:vallgorguina@vallgorguina.cat
X-WR-TIMEZONE:Europe/Madrid
DESCRIPTION:Tot els dilluns del mes de Maig de 17.00  a 18.30h

Lloc : Biblioteca K1 de Vallgorguina

URI:https://www.vallgorguina.cat/actualitat/agenda/7898-taller-creatiu.html
CLASS:PUBLIC
END:VEVENT
END:VCALENDAR
