BEGIN:VCALENDAR
VERSION:2.0
CALSCALE:GREGORIAN
PRODID:-//Diputació de Barcelona//DibaCMS//EN
BEGIN:VEVENT
UID:7901
DTSTAMP:20260421T083211
DTSTART:20190426T180000
DTEND:20190426T200000
SUMMARY:Tarda de contes
LOCATION:
METHOD:PUBLISH
X-WR-CALNAME:vallgorguina@vallgorguina.cat
X-WR-TIMEZONE:Europe/Madrid
DESCRIPTION:A la sala d'exposicions,Tarda de Contes per educar en la igualtat per nens de 6 a 12 anys

URI:https://www.vallgorguina.cat/actualitat/agenda/tarda-de-contes.html
CLASS:PUBLIC
END:VEVENT
END:VCALENDAR
