BEGIN:VCALENDAR
VERSION:2.0
CALSCALE:GREGORIAN
PRODID:-//Diputació de Barcelona//DibaCMS//EN
BEGIN:VEVENT
UID:7906
DTSTAMP:20260421T043147
DTSTART:20190504T170000
DTEND:20190504T190000
SUMMARY:Espai jove 
LOCATION:
METHOD:PUBLISH
X-WR-CALNAME:vallgorguina@vallgorguina.cat
X-WR-TIMEZONE:Europe/Madrid
DESCRIPTION:Taller de Cuina(montaditos)

URI:https://www.vallgorguina.cat/actualitat/agenda/espai-jove-.html
CLASS:PUBLIC
END:VEVENT
END:VCALENDAR
