BEGIN:VCALENDAR
VERSION:2.0
CALSCALE:GREGORIAN
PRODID:-//Diputació de Barcelona//DibaCMS//EN
BEGIN:VEVENT
UID:7907
DTSTAMP:20260421T115144
DTSTART:20190511T170000
DTEND:20190511T190000
SUMMARY:Espai Jove
LOCATION:
METHOD:PUBLISH
X-WR-CALNAME:vallgorguina@vallgorguina.cat
X-WR-TIMEZONE:Europe/Madrid
DESCRIPTION:Futbol (anirem al camp municipal)

URI:https://www.vallgorguina.cat/actualitat/agenda/7907-espai-jove.html
CLASS:PUBLIC
END:VEVENT
END:VCALENDAR
