BEGIN:VCALENDAR
VERSION:2.0
CALSCALE:GREGORIAN
PRODID:-//Diputació de Barcelona//DibaCMS//EN
BEGIN:VEVENT
UID:7908
DTSTAMP:20260421T152306
DTSTART:20190518T170000
DTEND:20190518T190000
SUMMARY:Espai Jove
LOCATION:
METHOD:PUBLISH
X-WR-CALNAME:vallgorguina@vallgorguina.cat
X-WR-TIMEZONE:Europe/Madrid
DESCRIPTION:Xerrem i Corpartim entre Joves +Esport

URI:https://www.vallgorguina.cat/actualitat/agenda/7908-espai-jove.html
CLASS:PUBLIC
END:VEVENT
END:VCALENDAR
