BEGIN:VCALENDAR
VERSION:2.0
CALSCALE:GREGORIAN
PRODID:-//Diputació de Barcelona//DibaCMS//EN
BEGIN:VEVENT
UID:7909
DTSTAMP:20260421T061324
DTSTART:20190525T170000
DTEND:20190525T190000
SUMMARY:Espai Jove
LOCATION:
METHOD:PUBLISH
X-WR-CALNAME:vallgorguina@vallgorguina.cat
X-WR-TIMEZONE:Europe/Madrid
DESCRIPTION:Balls Urbans (break,hip-hop....)

URI:https://www.vallgorguina.cat/actualitat/agenda/7909-espai-jove.html
CLASS:PUBLIC
END:VEVENT
END:VCALENDAR
