BEGIN:VCALENDAR
VERSION:2.0
CALSCALE:GREGORIAN
PRODID:-//Diputació de Barcelona//DibaCMS//EN
BEGIN:VEVENT
UID:7910
DTSTAMP:20260421T043218
DTSTART:20190602T090000
DTEND:20190602T130000
SUMMARY:Esmorzar Groc
LOCATION:
METHOD:PUBLISH
X-WR-CALNAME:vallgorguina@vallgorguina.cat
X-WR-TIMEZONE:Europe/Madrid
DESCRIPTION:A la Plaça de la Vila

URI:https://www.vallgorguina.cat/actualitat/agenda/esmorzar-groc.html
CLASS:PUBLIC
END:VEVENT
END:VCALENDAR
