BEGIN:VCALENDAR
VERSION:2.0
CALSCALE:GREGORIAN
PRODID:-//Diputació de Barcelona//DibaCMS//EN
BEGIN:VEVENT
UID:7913
DTSTAMP:20260421T041531
DTSTART:20190601T170000
DTEND:20190601T200000
SUMMARY:Taller d'art a la natura
LOCATION:
METHOD:PUBLISH
X-WR-CALNAME:vallgorguina@vallgorguina.cat
X-WR-TIMEZONE:Europe/Madrid
DESCRIPTION:Activitat per tots els públics/gratuita

A la sala d'esposicions

URI:https://www.vallgorguina.cat/actualitat/agenda/7913-taller-dart-a-la-natura.html
CLASS:PUBLIC
END:VEVENT
END:VCALENDAR
