BEGIN:VCALENDAR
VERSION:2.0
CALSCALE:GREGORIAN
PRODID:-//Diputació de Barcelona//DibaCMS//EN
BEGIN:VEVENT
UID:7915
DTSTAMP:20260421T041607
DTSTART:20190608T190000
DTEND:20190608T220000
SUMMARY:Berenar pel Fons de Solidaritat
LOCATION:
METHOD:PUBLISH
X-WR-CALNAME:vallgorguina@vallgorguina.cat
X-WR-TIMEZONE:Europe/Madrid
DESCRIPTION:
URI:https://www.vallgorguina.cat/actualitat/agenda/berenar-pel-fons-de-solidaritat.html
CLASS:PUBLIC
END:VEVENT
END:VCALENDAR
