BEGIN:VCALENDAR
VERSION:2.0
CALSCALE:GREGORIAN
PRODID:-//Diputació de Barcelona//DibaCMS//EN
BEGIN:VEVENT
UID:7916
DTSTAMP:20260421T023859
DTSTART:20190601T134500
DTEND:20190601T180000
SUMMARY:XXX FESTA D'HOMENATGE A LA GENT GRAN
LOCATION:
METHOD:PUBLISH
X-WR-CALNAME:vallgorguina@vallgorguina.cat
X-WR-TIMEZONE:Europe/Madrid
DESCRIPTION:
URI:https://www.vallgorguina.cat/actualitat/agenda/xxx-festa-dhomenatge-a-la-gent-gran.html
CLASS:PUBLIC
END:VEVENT
END:VCALENDAR
