BEGIN:VCALENDAR
VERSION:2.0
CALSCALE:GREGORIAN
PRODID:-//Diputació de Barcelona//DibaCMS//EN
BEGIN:VEVENT
UID:792
DTSTAMP:20260423T103147
DTSTART:20180310T140000
DTEND:20180310T160000
SUMMARY:Calçotada popular a Baronia del Montseny
LOCATION:
METHOD:PUBLISH
X-WR-CALNAME:vallgorguina@vallgorguina.cat
X-WR-TIMEZONE:Europe/Madrid
DESCRIPTION:
URI:https://www.vallgorguina.cat/actualitat/agenda/calcotada-popular-a-baronia-del-montseny.html
CLASS:PUBLIC
END:VEVENT
END:VCALENDAR
