BEGIN:VCALENDAR
VERSION:2.0
CALSCALE:GREGORIAN
PRODID:-//Diputació de Barcelona//DibaCMS//EN
BEGIN:VEVENT
UID:7922
DTSTAMP:20260421T022853
DTSTART:20190523T163500
DTEND:20190523T190000
SUMMARY:Xerrada Per Famílies
LOCATION:
METHOD:PUBLISH
X-WR-CALNAME:vallgorguina@vallgorguina.cat
X-WR-TIMEZONE:Europe/Madrid
DESCRIPTION:Com acompanyar als nostres fills/es en Dol.

A l'Aula d'anglès

URI:https://www.vallgorguina.cat/actualitat/agenda/xerrada-per-families.html
CLASS:PUBLIC
END:VEVENT
END:VCALENDAR
