BEGIN:VCALENDAR
VERSION:2.0
CALSCALE:GREGORIAN
PRODID:-//Diputació de Barcelona//DibaCMS//EN
BEGIN:VEVENT
UID:7936
DTSTAMP:20260421T022618
DTSTART:20190523T000000
DTEND:20190523T000000
SUMMARY:Ofertes de Feina
LOCATION:
METHOD:PUBLISH
X-WR-CALNAME:vallgorguina@vallgorguina.cat
X-WR-TIMEZONE:Europe/Madrid
DESCRIPTION:PERSONAL PER A MAGATZEM,  a Sant Antoni de Vilamajor

Per preparar comandes, recepció de mercaderies, col·locació de productes, inventaris, descàrrega manual de contenidors i camions. Jornada partida, de dilluns a divendres.

CANGUR, a Palautordera

Persona amb carnet de conduir per fer de cangur de dos nens i per fer tasques de la llar, durant dues setmanes el mes de juliol. Unes quatre hores diàries.

COMPTABLE, a Llinars

Tasques de facturació diària i setmanal  i quadrar comptes. Conciliació bancària. I suport en la comptabilització de nòmines. Jornada parcial, horari de matins.

CUINER/A, a Llinars

Per incorporar-se a una masia de turisme rural. Horari de mitja jornada vespre/nit.

URI:https://www.vallgorguina.cat/actualitat/agenda/7936-ofertes-de-feina.html
CLASS:PUBLIC
END:VEVENT
END:VCALENDAR
