BEGIN:VCALENDAR
VERSION:2.0
CALSCALE:GREGORIAN
PRODID:-//Diputació de Barcelona//DibaCMS//EN
BEGIN:VEVENT
UID:794
DTSTAMP:20260423T161255
DTSTART:20180224T180000
DTEND:20180224T200000
SUMMARY:Consell local de joves 
LOCATION:
METHOD:PUBLISH
X-WR-CALNAME:vallgorguina@vallgorguina.cat
X-WR-TIMEZONE:Europe/Madrid
DESCRIPTION:
URI:https://www.vallgorguina.cat/actualitat/agenda/consell-local-de-joves-.html
CLASS:PUBLIC
END:VEVENT
END:VCALENDAR
