BEGIN:VCALENDAR
VERSION:2.0
CALSCALE:GREGORIAN
PRODID:-//Diputació de Barcelona//DibaCMS//EN
BEGIN:VEVENT
UID:7946
DTSTAMP:20260421T004422
DTSTART:20190623T000000
DTEND:20190624T000000
SUMMARY:Anem a Buscar la Flama del Canigó
LOCATION:
METHOD:PUBLISH
X-WR-CALNAME:vallgorguina@vallgorguina.cat
X-WR-TIMEZONE:Europe/Madrid
DESCRIPTION:Vols venir a Coll d' Ares a buscar la Flama del Canigó i portar-la fins a Vallgorguina?

URI:https://www.vallgorguina.cat/actualitat/agenda/7946-anem-a-buscar-la-flama-del-canigo.html
CLASS:PUBLIC
END:VEVENT
END:VCALENDAR
