BEGIN:VCALENDAR
VERSION:2.0
CALSCALE:GREGORIAN
PRODID:-//Diputació de Barcelona//DibaCMS//EN
BEGIN:VEVENT
UID:7948
DTSTAMP:20260420T210030
DTSTART:20190623T150000
DTEND:20190624T120000
SUMMARY:Revetlles amb Precaució
LOCATION:
METHOD:PUBLISH
X-WR-CALNAME:vallgorguina@vallgorguina.cat
X-WR-TIMEZONE:Europe/Madrid
DESCRIPTION:
URI:https://www.vallgorguina.cat/actualitat/agenda/7948-revetlles-amb-precaucio.html
CLASS:PUBLIC
END:VEVENT
END:VCALENDAR
