BEGIN:VCALENDAR
VERSION:2.0
CALSCALE:GREGORIAN
PRODID:-//Diputació de Barcelona//DibaCMS//EN
BEGIN:VEVENT
UID:795
DTSTAMP:20260423T101333
DTSTART:20180223T170000
DTEND:20180223T190000
SUMMARY:Reunió 9è Torneig de Petanca
LOCATION:
METHOD:PUBLISH
X-WR-CALNAME:vallgorguina@vallgorguina.cat
X-WR-TIMEZONE:Europe/Madrid
DESCRIPTION:Reunió de municipis del Baix Montseny per preparar el 9è Torneig de Petanca

Als baixos de l'Ajuntament

URI:https://www.vallgorguina.cat/actualitat/agenda/reunio-9e-torneig-de-petanca.html
CLASS:PUBLIC
END:VEVENT
END:VCALENDAR
