BEGIN:VCALENDAR
VERSION:2.0
CALSCALE:GREGORIAN
PRODID:-//Diputació de Barcelona//DibaCMS//EN
BEGIN:VEVENT
UID:7950
DTSTAMP:20260421T083607
DTSTART:20190601T170000
DTEND:20190601T190000
SUMMARY:Nou Espai Jove
LOCATION:
METHOD:PUBLISH
X-WR-CALNAME:vallgorguina@vallgorguina.cat
X-WR-TIMEZONE:Europe/Madrid
DESCRIPTION:Futbol (anirem al camp de municipal)

URI:https://www.vallgorguina.cat/actualitat/agenda/nou-espai-jove.html
CLASS:PUBLIC
END:VEVENT
END:VCALENDAR
