BEGIN:VCALENDAR
VERSION:2.0
CALSCALE:GREGORIAN
PRODID:-//Diputació de Barcelona//DibaCMS//EN
BEGIN:VEVENT
UID:7951
DTSTAMP:20260421T023617
DTSTART:20190608T170000
DTEND:20190608T190000
SUMMARY:Nou Espai Jove
LOCATION:
METHOD:PUBLISH
X-WR-CALNAME:vallgorguina@vallgorguina.cat
X-WR-TIMEZONE:Europe/Madrid
DESCRIPTION:Sortida al Green Indoor Park

(Preu 8€-Amb inscripció prèvia fins al 25 de maig )

Consulteu places lliures al 630 79 34 73-Cisco

URI:https://www.vallgorguina.cat/actualitat/agenda/7951-nou-espai-jove.html
CLASS:PUBLIC
END:VEVENT
END:VCALENDAR
