BEGIN:VCALENDAR
VERSION:2.0
CALSCALE:GREGORIAN
PRODID:-//Diputació de Barcelona//DibaCMS//EN
BEGIN:VEVENT
UID:7953
DTSTAMP:20260421T002339
DTSTART:20190622T170000
DTEND:20190622T190000
SUMMARY:Nou Espai Jove
LOCATION:
METHOD:PUBLISH
X-WR-CALNAME:vallgorguina@vallgorguina.cat
X-WR-TIMEZONE:Europe/Madrid
DESCRIPTION:Esports Tradicionals

URI:https://www.vallgorguina.cat/actualitat/agenda/7953-nou-espai-jove.html
CLASS:PUBLIC
END:VEVENT
END:VCALENDAR
