BEGIN:VCALENDAR
VERSION:2.0
CALSCALE:GREGORIAN
PRODID:-//Diputació de Barcelona//DibaCMS//EN
BEGIN:VEVENT
UID:7954
DTSTAMP:20260420T204644
DTSTART:20190629T170000
DTEND:20190629T190000
SUMMARY:Nou Espai Jove
LOCATION:
METHOD:PUBLISH
X-WR-CALNAME:vallgorguina@vallgorguina.cat
X-WR-TIMEZONE:Europe/Madrid
DESCRIPTION:Concurs de Cuina Freda (amb Premis)

URI:https://www.vallgorguina.cat/actualitat/agenda/7954-nou-espai-jove.html
CLASS:PUBLIC
END:VEVENT
END:VCALENDAR
