BEGIN:VCALENDAR
VERSION:2.0
CALSCALE:GREGORIAN
PRODID:-//Diputació de Barcelona//DibaCMS//EN
BEGIN:VEVENT
UID:7965
DTSTAMP:20260420T223833
DTSTART:20190727T170000
DTEND:20190727T230000
SUMMARY:Música i tapes
LOCATION:
METHOD:PUBLISH
X-WR-CALNAME:vallgorguina@vallgorguina.cat
X-WR-TIMEZONE:Europe/Madrid
DESCRIPTION:A les 17.00 h Tobogan de 75 metres i doble carril al carrer Pi Florit i a partir de les 20.00 h música i tapes a la Plaça

URI:https://www.vallgorguina.cat/actualitat/agenda/musica-i-tapes.html
CLASS:PUBLIC
END:VEVENT
END:VCALENDAR
