BEGIN:VCALENDAR
VERSION:2.0
CALSCALE:GREGORIAN
PRODID:-//Diputació de Barcelona//DibaCMS//EN
BEGIN:VEVENT
UID:7966
DTSTAMP:20260421T020817
DTSTART:20190623T210000
DTEND:20190623T235900
SUMMARY:Nit Sant Joan 
LOCATION:
METHOD:PUBLISH
X-WR-CALNAME:vallgorguina@vallgorguina.cat
X-WR-TIMEZONE:Europe/Madrid
DESCRIPTION:
URI:https://www.vallgorguina.cat/actualitat/agenda/nit-sant-joan-.html
CLASS:PUBLIC
END:VEVENT
END:VCALENDAR
