BEGIN:VCALENDAR
VERSION:2.0
CALSCALE:GREGORIAN
PRODID:-//Diputació de Barcelona//DibaCMS//EN
BEGIN:VEVENT
UID:7968
DTSTAMP:20260421T002115
DTSTART:20190727T220000
DTEND:20190727T235900
SUMMARY:Havaneres
LOCATION:
METHOD:PUBLISH
X-WR-CALNAME:vallgorguina@vallgorguina.cat
X-WR-TIMEZONE:Europe/Madrid
DESCRIPTION:Grup d'havaneres a la plaça de la vila 

URI:https://www.vallgorguina.cat/actualitat/agenda/havaneres.html
CLASS:PUBLIC
END:VEVENT
END:VCALENDAR
