BEGIN:VCALENDAR
VERSION:2.0
CALSCALE:GREGORIAN
PRODID:-//Diputació de Barcelona//DibaCMS//EN
BEGIN:VEVENT
UID:7976
DTSTAMP:20260421T022510
DTSTART:20190614T000000
DTEND:20190614T000000
SUMMARY:Últim ple extraordinari de la legislatura 2015-2019
LOCATION:
METHOD:PUBLISH
X-WR-CALNAME:vallgorguina@vallgorguina.cat
X-WR-TIMEZONE:Europe/Madrid
DESCRIPTION:Ahir Dimecres a Vallgorguina vàrem celebrar l’últim ple extraordinari, va servir per aprovar l'acta de la darrera sessió plenària i al mateix temps posar la cloenda a la legislatura 2015-2019, un ple de comiats 8 persones deixen el govern o l'oposició.

URI:https://www.vallgorguina.cat/actualitat/agenda/ultim-ple-extraordinari-de-la-legislatura-2015-2019.html
CLASS:PUBLIC
END:VEVENT
END:VCALENDAR
