BEGIN:VCALENDAR
VERSION:2.0
CALSCALE:GREGORIAN
PRODID:-//Diputació de Barcelona//DibaCMS//EN
BEGIN:VEVENT
UID:7978
DTSTAMP:20260420T224310
DTSTART:20190722T180000
DTEND:20190813T230000
SUMMARY:Torneig Futbol Sala
LOCATION:
METHOD:PUBLISH
X-WR-CALNAME:vallgorguina@vallgorguina.cat
X-WR-TIMEZONE:Europe/Madrid
DESCRIPTION:
URI:https://www.vallgorguina.cat/actualitat/agenda/torneig-futbol-sala.html
CLASS:PUBLIC
END:VEVENT
END:VCALENDAR
