BEGIN:VCALENDAR
VERSION:2.0
CALSCALE:GREGORIAN
PRODID:-//Diputació de Barcelona//DibaCMS//EN
BEGIN:VEVENT
UID:7983
DTSTAMP:20260420T223908
DTSTART:20190618T180000
DTEND:20190618T220000
SUMMARY:Artteràpia i biografia
LOCATION:
METHOD:PUBLISH
X-WR-CALNAME:vallgorguina@vallgorguina.cat
X-WR-TIMEZONE:Europe/Madrid
DESCRIPTION:L'art de caminar per la vida.

Us convidem a la presentació pràctica que tindrà lloc a l'escola Waldorf de Vallgorguina.

URI:https://www.vallgorguina.cat/actualitat/agenda/artterapia-i-biografia.html
CLASS:PUBLIC
END:VEVENT
END:VCALENDAR
