BEGIN:VCALENDAR
VERSION:2.0
CALSCALE:GREGORIAN
PRODID:-//Diputació de Barcelona//DibaCMS//EN
BEGIN:VEVENT
UID:7991
DTSTAMP:20260420T211629
DTSTART:20190706T190000
DTEND:20190706T220000
SUMMARY:4º Festa Fent Pinya
LOCATION:
METHOD:PUBLISH
X-WR-CALNAME:vallgorguina@vallgorguina.cat
X-WR-TIMEZONE:Europe/Madrid
DESCRIPTION:
URI:https://www.vallgorguina.cat/actualitat/agenda/4o-festa-fent-pinya.html
CLASS:PUBLIC
END:VEVENT
END:VCALENDAR
