BEGIN:VCALENDAR
VERSION:2.0
CALSCALE:GREGORIAN
PRODID:-//Diputació de Barcelona//DibaCMS//EN
BEGIN:VEVENT
UID:7992
DTSTAMP:20260420T164631
DTSTART:20190802T210000
DTEND:20190804T235900
SUMMARY:Festa Major Baronia del Montseny
LOCATION:
METHOD:PUBLISH
X-WR-CALNAME:vallgorguina@vallgorguina.cat
X-WR-TIMEZONE:Europe/Madrid
DESCRIPTION:

URI:https://www.vallgorguina.cat/actualitat/agenda/7992-festa-major-baronia-del-montseny.html
CLASS:PUBLIC
END:VEVENT
END:VCALENDAR
