BEGIN:VCALENDAR
VERSION:2.0
CALSCALE:GREGORIAN
PRODID:-//Diputació de Barcelona//DibaCMS//EN
BEGIN:VEVENT
UID:7995
DTSTAMP:20260420T184955
DTSTART:20190726T203000
DTEND:20190726T235900
SUMMARY:Festa Major Canadà Parc
LOCATION:
METHOD:PUBLISH
X-WR-CALNAME:vallgorguina@vallgorguina.cat
X-WR-TIMEZONE:Europe/Madrid
DESCRIPTION:20:30 h  Pregó FM Canadà Parc.

21:00 h  Sopar  barbacoa FM Canadà Parc .

22:30 h  Havaneres  i  cremat FM Canadà Parc .

00:00 h  Ball  Moncayo  Music FM Canadà Parc .

URI:https://www.vallgorguina.cat/actualitat/agenda/7995-festa-major-canada-parc.html
CLASS:PUBLIC
END:VEVENT
END:VCALENDAR
