BEGIN:VCALENDAR
VERSION:2.0
CALSCALE:GREGORIAN
PRODID:-//Diputació de Barcelona//DibaCMS//EN
BEGIN:VEVENT
UID:7996
DTSTAMP:20260421T020623
DTSTART:20190727T110000
DTEND:20190727T235900
SUMMARY:Festa Major Canadà Parc
LOCATION:
METHOD:PUBLISH
X-WR-CALNAME:vallgorguina@vallgorguina.cat
X-WR-TIMEZONE:Europe/Madrid
DESCRIPTION:11 Hores a 14 Hores Activitats lúdiques, artístiques i esportives per a infants i joves. FM Canadà Parc .

17 Hores a 20 hores Activitats lúdiques, artístiques i esportives per a infants i joves. FM Canadà Parc .

21:00  Sopar de carmanyola. (cadascú se’l porta). FM Canadà Parc .

22:30  Actuació musical  Tarzan Boys. FM Canadà Parc .

01:00  DJ  Ramon. FM Canadà Parc .

URI:https://www.vallgorguina.cat/actualitat/agenda/7996-festa-major-canada-parc.html
CLASS:PUBLIC
END:VEVENT
END:VCALENDAR
