BEGIN:VCALENDAR
VERSION:2.0
CALSCALE:GREGORIAN
PRODID:-//Diputació de Barcelona//DibaCMS//EN
BEGIN:VEVENT
UID:7997
DTSTAMP:20260420T223756
DTSTART:20190728T113000
DTEND:20190728T140000
SUMMARY:Festa Major Canadà Parc
LOCATION:
METHOD:PUBLISH
X-WR-CALNAME:vallgorguina@vallgorguina.cat
X-WR-TIMEZONE:Europe/Madrid
DESCRIPTION:11:30 h  Matí de cloenda  amb  Festa Holi, jocs d’aigua i aperitiu popular. FM Canadà Parc .

URI:https://www.vallgorguina.cat/actualitat/agenda/7997-festa-major-canada-parc.html
CLASS:PUBLIC
END:VEVENT
END:VCALENDAR
