BEGIN:VCALENDAR
VERSION:2.0
CALSCALE:GREGORIAN
PRODID:-//Diputació de Barcelona//DibaCMS//EN
BEGIN:VEVENT
UID:7998
DTSTAMP:20260421T002533
DTSTART:20190713T170000
DTEND:20190713T235900
SUMMARY:Festa Major Collsacreu
LOCATION:
METHOD:PUBLISH
X-WR-CALNAME:vallgorguina@vallgorguina.cat
X-WR-TIMEZONE:Europe/Madrid
DESCRIPTION:

URI:https://www.vallgorguina.cat/actualitat/agenda/7998-festa-major-collsacreu.html
CLASS:PUBLIC
END:VEVENT
END:VCALENDAR
