BEGIN:VCALENDAR
VERSION:2.0
CALSCALE:GREGORIAN
PRODID:-//Diputació de Barcelona//DibaCMS//EN
BEGIN:VEVENT
UID:800
DTSTAMP:20260423T125112
DTSTART:20180228T170000
DTEND:20180228T193000
SUMMARY:Taller improvista de creació de personatges	
LOCATION:
METHOD:PUBLISH
X-WR-CALNAME:vallgorguina@vallgorguina.cat
X-WR-TIMEZONE:Europe/Madrid
DESCRIPTION:
URI:https://www.vallgorguina.cat/actualitat/agenda/taller-improvista-de-creacio-de-personatges.html
CLASS:PUBLIC
END:VEVENT
END:VCALENDAR
