BEGIN:VCALENDAR
VERSION:2.0
CALSCALE:GREGORIAN
PRODID:-//Diputació de Barcelona//DibaCMS//EN
BEGIN:VEVENT
UID:8004
DTSTAMP:20260420T212107
DTSTART:20190703T173000
DTEND:20190703T203000
SUMMARY:Juga i Riu
LOCATION:
METHOD:PUBLISH
X-WR-CALNAME:vallgorguina@vallgorguina.cat
X-WR-TIMEZONE:Europe/Madrid
DESCRIPTION:Estiu 2019 Vallgorguina 

Jocs,tallers,esports i lleure

Dos grups :Infants de 6 a 10 anys- de 17.30h a 19 h

                  Joves de 11 a 14 anys -de 19.15h a 20.30h

URI:https://www.vallgorguina.cat/actualitat/agenda/8004-juga-i-riu.html
CLASS:PUBLIC
END:VEVENT
END:VCALENDAR
