BEGIN:VCALENDAR
VERSION:2.0
CALSCALE:GREGORIAN
PRODID:-//Diputació de Barcelona//DibaCMS//EN
BEGIN:VEVENT
UID:8011
DTSTAMP:20260420T204843
DTSTART:20190720T103000
DTEND:20190720T130000
SUMMARY:3º Festa de l'Aigua
LOCATION:
METHOD:PUBLISH
X-WR-CALNAME:vallgorguina@vallgorguina.cat
X-WR-TIMEZONE:Europe/Madrid
DESCRIPTION:A la Baronia del Montseny

Esmorzar i jocs d'aigua

URI:https://www.vallgorguina.cat/actualitat/agenda/3o-festa-de-laigua.html
CLASS:PUBLIC
END:VEVENT
END:VCALENDAR
