BEGIN:VCALENDAR
VERSION:2.0
CALSCALE:GREGORIAN
PRODID:-//Diputació de Barcelona//DibaCMS//EN
BEGIN:VEVENT
UID:8018
DTSTAMP:20260420T184730
DTSTART:20190719T220000
DTEND:20190719T235900
SUMMARY:Caminada sota la llum de la Lluna
LOCATION:
METHOD:PUBLISH
X-WR-CALNAME:vallgorguina@vallgorguina.cat
X-WR-TIMEZONE:Europe/Madrid
DESCRIPTION:Nou itinerari

URI:https://www.vallgorguina.cat/actualitat/agenda/8018-caminada-sota-la-llum-de-la-lluna.html
CLASS:PUBLIC
END:VEVENT
END:VCALENDAR
