BEGIN:VCALENDAR
VERSION:2.0
CALSCALE:GREGORIAN
PRODID:-//Diputació de Barcelona//DibaCMS//EN
BEGIN:VEVENT
UID:802
DTSTAMP:20260423T102954
DTSTART:20180309T200000
DTEND:20180309T213000
SUMMARY:Cinema pel dia internacional del a Dona
LOCATION:
METHOD:PUBLISH
X-WR-CALNAME:vallgorguina@vallgorguina.cat
X-WR-TIMEZONE:Europe/Madrid
DESCRIPTION:
URI:https://www.vallgorguina.cat/actualitat/agenda/cinema-pel-dia-internacional-del-a-dona.html
CLASS:PUBLIC
END:VEVENT
END:VCALENDAR
